BEGIN:VCALENDAR
VERSION:2.0
PRODID:-//ahepad26 - ECPv6.15.12.2//NONSGML v1.0//EN
CALSCALE:GREGORIAN
METHOD:PUBLISH
X-WR-CALNAME:ahepad26
X-ORIGINAL-URL:https://ahepad26.org
X-WR-CALDESC:Events for ahepad26
REFRESH-INTERVAL;VALUE=DURATION:PT1H
X-Robots-Tag:noindex
X-PUBLISHED-TTL:PT1H
BEGIN:VTIMEZONE
TZID:UTC
BEGIN:STANDARD
TZOFFSETFROM:+0000
TZOFFSETTO:+0000
TZNAME:UTC
DTSTART:20240101T000000
END:STANDARD
END:VTIMEZONE
BEGIN:VEVENT
DTSTART;VALUE=DATE:20260111
DTEND;VALUE=DATE:20260112
DTSTAMP:20260421T101202
CREATED:20250828T141737Z
LAST-MODIFIED:20250828T184510Z
UID:27810-1768089600-1768175999@ahepad26.org
SUMMARY:Scholarship Awards
DESCRIPTION:
URL:https://ahepad26.org/event/scholarship-awards/
CATEGORIES:All,Scholarship Related
END:VEVENT
BEGIN:VEVENT
DTSTART;VALUE=DATE:20251123
DTEND;VALUE=DATE:20251124
DTSTAMP:20260421T101202
CREATED:20250828T141631Z
LAST-MODIFIED:20250828T184516Z
UID:27808-1763856000-1763942399@ahepad26.org
SUMMARY:AHEPA Family Christmas Party Andreas Restaurant
DESCRIPTION:
URL:https://ahepad26.org/event/ahepa-family-christmas-party-andreas-restaurant/
CATEGORIES:All,Party
END:VEVENT
BEGIN:VEVENT
DTSTART;TZID=UTC:20251119T190000
DTEND;TZID=UTC:20251119T200000
DTSTAMP:20260421T101202
CREATED:20250828T141534Z
LAST-MODIFIED:20250828T184522Z
UID:27806-1763578800-1763582400@ahepad26.org
SUMMARY:All Chapters Meeting St George
DESCRIPTION:****Initiations and Reinstatement Meeting****
URL:https://ahepad26.org/event/all-chapters-meeting-st-george-3/
CATEGORIES:All,Chapter Meeting
END:VEVENT
BEGIN:VEVENT
DTSTART;VALUE=DATE:20251110
DTEND;VALUE=DATE:20251111
DTSTAMP:20260421T101202
CREATED:20250403T171921Z
LAST-MODIFIED:20250828T184530Z
UID:27771-1762732800-1762819199@ahepad26.org
SUMMARY:Deadline for District Scholarship Awards
DESCRIPTION:
URL:https://ahepad26.org/event/poker-tournament/
CATEGORIES:All,Scholarship Related
END:VEVENT
BEGIN:VEVENT
DTSTART;VALUE=DATE:20251025
DTEND;VALUE=DATE:20251026
DTSTAMP:20260421T101202
CREATED:20250828T141409Z
LAST-MODIFIED:20250828T184536Z
UID:27803-1761350400-1761436799@ahepad26.org
SUMMARY:Poker Tournament: HCV
DESCRIPTION:
URL:https://ahepad26.org/event/poker-tournament-hcv/
CATEGORIES:All,Poker
END:VEVENT
BEGIN:VEVENT
DTSTART;TZID=UTC:20251015T190000
DTEND;TZID=UTC:20251015T200000
DTSTAMP:20260421T101202
CREATED:20250828T141246Z
LAST-MODIFIED:20250828T184542Z
UID:27800-1760554800-1760558400@ahepad26.org
SUMMARY:All Chapters Meeting St George
DESCRIPTION:****Initiations and Reinstatement Meeting****
URL:https://ahepad26.org/event/all-chapters-meeting-st-george-2/
CATEGORIES:All,Chapter Meeting
END:VEVENT
BEGIN:VEVENT
DTSTART;TZID=UTC:20250917T190000
DTEND;TZID=UTC:20250917T200000
DTSTAMP:20260421T101202
CREATED:20250828T141204Z
LAST-MODIFIED:20250828T184556Z
UID:27798-1758135600-1758139200@ahepad26.org
SUMMARY:All Chapters Meeting St George
DESCRIPTION:
URL:https://ahepad26.org/event/all-chapters-meeting-st-george/
CATEGORIES:All,Chapter Meeting
END:VEVENT
END:VCALENDAR